BEGIN:VCALENDAR
VERSION:2.0
PRODID:-//Antonella Bargione - ECPv5.16.0//NONSGML v1.0//EN
CALSCALE:GREGORIAN
METHOD:PUBLISH
X-WR-CALNAME:Antonella Bargione
X-ORIGINAL-URL:https://antonellabargione.com
X-WR-CALDESC:Events for Antonella Bargione
BEGIN:VTIMEZONE
TZID:Africa/Harare
BEGIN:STANDARD
TZOFFSETFROM:+0200
TZOFFSETTO:+0200
TZNAME:CAT
DTSTART:20190101T000000
END:STANDARD
END:VTIMEZONE
BEGIN:VEVENT
DTSTART;VALUE=DATE:20190928
DTEND;VALUE=DATE:20191014
DTSTAMP:20260419T193912
CREATED:20181124T121525Z
LAST-MODIFIED:20181124T150119Z
UID:6687-1569628800-1571011199@antonellabargione.com
SUMMARY:African heARTbeat
DESCRIPTION:African HeARTbeat 2019\nAlign with the pulse of Nature Unedited!\nPRE-ANNOUNCEMENT!\n \nWe are so excited to announce our next spiritual journey\, \nTraveling the realm of the Heart – in the words of wisdom keeper and respected Lion Shaman Baba Mandaza: \n“Love and Nature are inseparable”. \n\n \nConsider this a once-in-a-lifetime opportunity to be inspired by Zimbabwe’s radiant people and amazing natural beauty\, from the lush rain forest to the fierce and raw wilderness; experience the profound stillness of the African bush\, and be expertly guided into close communion with the wise elders of our Earth – the Elephants of Gonarezhou. \nZimbabwe is a relatively unknown but intensely powerful place on Earth\, and its nature still pristine and untouched. In Ant Kaschula’s words: “In my long experience guiding around Africa\, I will say that Gonarezhou is one of the most wild and untouched places remaining in Africa”. \nIn the presence of such beauty and power\, you cannot but be changed forever.
URL:https://antonellabargione.com/event/african-heartbeat-2/
LOCATION:Zimbabwe\, Zimbabwe
CATEGORIES:awaken your creative self,Eartheart,elephants,meditation,Spiritual Journeys
ATTACH;FMTTYPE=image/jpeg:https://antonellabargione.com/wp-content/uploads/2018/09/28168750_1455764167882356_2658836294119706809_n-e1535753993634.jpg
ORGANIZER;CN="https%3A%2F%2Fwww.facebook.com%2Feartheartafrica%2F":MAILTO:eartheart@gmail.com
END:VEVENT
END:VCALENDAR