BEGIN:VCALENDAR
VERSION:2.0
PRODID:-//Antonella Bargione - ECPv5.16.0//NONSGML v1.0//EN
CALSCALE:GREGORIAN
METHOD:PUBLISH
X-WR-CALNAME:Antonella Bargione
X-ORIGINAL-URL:https://antonellabargione.com
X-WR-CALDESC:Events for Antonella Bargione
BEGIN:VTIMEZONE
TZID:Africa/Harare
BEGIN:STANDARD
TZOFFSETFROM:+0200
TZOFFSETTO:+0200
TZNAME:CAT
DTSTART:20160101T000000
END:STANDARD
END:VTIMEZONE
BEGIN:VEVENT
DTSTART;TZID=Africa/Harare:20160730T130000
DTEND;TZID=Africa/Harare:20160730T170000
DTSTAMP:20260419T195057
CREATED:20160724T212005Z
LAST-MODIFIED:20160724T215652Z
UID:6388-1469883600-1469898000@antonellabargione.com
SUMMARY:Angel pARTy! Everyone like Angels...
DESCRIPTION:Paint your Angel/s and get an Angel reading.  \n \nI will teach you some Art journal techniques\, the simplest ever way to trace a face if you want to go figurative. I will guide you through a gentle and easy meditation to connect to your Angel to let your sparkle move your brush on paper. \nWings\, wings and more wings… in the shape of … wings\, of colours\, of brush strokes…. figurative or abstract… As the cherry on the cake some Angel coaching with me in between all this… \nBring your apron\, a journal or better an Art Journal with min 110grms minimum weight paper and something for tea. No experience required. Art material included. Max ten people. \n$35. Booking essential on 0776023013. \nSaturday Afternoons of Joy\, Fun\, Glitter & Sparkles \nsign up to my newsletter for future workshops.
URL:https://antonellabargione.com/event/angel-party-everyone-like-angels/
LOCATION:The Mbira Centre\, 53 Glenara Ave North\, Harare\, Zimbabwe
CATEGORIES:Paint with Energy
ATTACH;FMTTYPE=image/jpeg:https://antonellabargione.com/wp-content/uploads/2016/07/13659193_10153793176587607_3116593418583121135_n-e1469397397429.jpg
ORGANIZER;CN="":MAILTO:abargione@hotmail.com
END:VEVENT
END:VCALENDAR