BEGIN:VCALENDAR
VERSION:2.0
PRODID:-//Antonella Bargione - ECPv5.16.0//NONSGML v1.0//EN
CALSCALE:GREGORIAN
METHOD:PUBLISH
X-WR-CALNAME:Antonella Bargione
X-ORIGINAL-URL:https://antonellabargione.com
X-WR-CALDESC:Events for Antonella Bargione
BEGIN:VTIMEZONE
TZID:Africa/Harare
BEGIN:STANDARD
TZOFFSETFROM:+0200
TZOFFSETTO:+0200
TZNAME:CAT
DTSTART:20160101T000000
END:STANDARD
END:VTIMEZONE
BEGIN:VEVENT
DTSTART;TZID=Africa/Harare:20160827T140000
DTEND;TZID=Africa/Harare:20160827T160000
DTSTAMP:20260419T211144
CREATED:20160724T214013Z
LAST-MODIFIED:20160724T220014Z
UID:6397-1472306400-1472313600@antonellabargione.com
SUMMARY:Angels\, Fairies & Magical Wings  +  for * parents * & * children
DESCRIPTION:Angels\, Fairies & Magical Wings  \nfor  parents  &  children \n \nCome and bond with your child for 2 hours of fun painting. Jump into the magical child seeing the unseen. Let your imagination run wild enhancing each other’s creativity\, being able to play. Bring your apron and your refreshments. No experience required\, just your willingness to try. Art materials provided. $20 for adult and $10 per child; many children? We can negotiate :). Age 8 to 12. Booking essential on 0776023013. \nA Saturday Afternoon of Joy\, Fun\, Glitter & Sparkles \nsign up to my newsletter for future workshops and\n \nplease LIKE my fb page www.facebook.com/WaterLightTheArtOfFreedom/ to keep updated.
URL:https://antonellabargione.com/event/angels-fairies-magical-wings-for-parents-and-children/
LOCATION:The Mbira Centre\, 53 Glenara Ave North\, Harare\, Zimbabwe
CATEGORIES:Paint with Energy
ATTACH;FMTTYPE=image/jpeg:https://antonellabargione.com/wp-content/uploads/2016/02/IMG_5994-e1469397582408.jpg
END:VEVENT
END:VCALENDAR