BEGIN:VCALENDAR
VERSION:2.0
PRODID:-//Antonella Bargione - ECPv5.16.0//NONSGML v1.0//EN
CALSCALE:GREGORIAN
METHOD:PUBLISH
X-WR-CALNAME:Antonella Bargione
X-ORIGINAL-URL:https://antonellabargione.com
X-WR-CALDESC:Events for Antonella Bargione
BEGIN:VTIMEZONE
TZID:Africa/Harare
BEGIN:STANDARD
TZOFFSETFROM:+0200
TZOFFSETTO:+0200
TZNAME:CAT
DTSTART:20160101T000000
END:STANDARD
END:VTIMEZONE
BEGIN:VEVENT
DTSTART;TZID=Africa/Harare:20160402T084500
DTEND;TZID=Africa/Harare:20160402T163000
DTSTAMP:20260420T014747
CREATED:20160303T213755Z
LAST-MODIFIED:20160331T211802Z
UID:6105-1459586700-1459614600@antonellabargione.com
SUMMARY:Awaken Your Creative Self
DESCRIPTION:A day of self-exploration through intuitive painting with Antonella Bargione & Ema dos Santos. \nNo previous experience required… You will be guided at each step \nConfused?  Not too sure what you really really want?  Not too sure which way to turn? Had enough of the mundane and boring? Then STEP OUT! \nCome for a day of self-exploration and get some answers through the Art of  intuitive painting. \nThis is not an Art Class for the artistic inclined only; it’s mostly for the ordinary person like you to open your world and  get some insights  with this delightful medium. \n \nAWAKENING  YOUR CREATIVITY OPENS NEW WAYS TO FIND SOLUTIONS TO PROBLEMS AND IT IS FUN.  BE KIND TO YOURSELF\, BE GENTLE. \nGUIDANCE  AND ALL ART MATERIAL PROVIDED WE ONLY NEED YOU \nIntuitive painting is a way to connect to your unconscious\, receive messages\, transform emotions and redirect feelings. Like a dream giving you insight and clarification on a situation as well as an opening to whom you are. Join us on this journey of self-discovery allowing yourself to be surprised with fun and curiosity. \n” let it be freeing ” let it be flowing ” let it be fun “ \nLearn to leave behind your restrictions\, allowing self-confidence to blossom.  \nWhen: Saturday April 2nd | Time: 9am to 4.30pm\nWhere: The Mbira Centre\, 53 Glenara North\, Highlands\, Harare\nFor complete info email Antonella abargione(at)hotmail.com | 0776 023013 (on Whatsup) \nAll Art Material provided \nTo confirm your booking and secure your place please pay in advance |Self investment $65 \nAntonella was born in Italy. An architect by training\, she moved from Italy to Zimbabwe 18 years ago. Life led her to develop in the field of Energy Healing and Conscious Leadership Coaching. Her passion is to support people transform their life through self-awareness\, personal empowerment and awakening their creativity. She works with Jikiden Reiki\, The Journey and The Emotion Code. She has an abiding passion for beauty\, creativity and freedom\, and love how Nature reflects this back to her in all its colours and different energies. www.antonellabargione.com  \nAn Italian born in Tanzania\, Ema dos Santos moved to Zimbabwe at the age of 12 bringing with her the richness of culture and colour of East Africa. In her late 20s\, she worked as a casino manager which contributed hugely to her perception of human nature. For the last 16 years her passion for reflexology & body work has given her an intuitive understanding of emotional & physical health. Like many of us\, her artistic talents were dismissed at a very young age & in recent years has rediscovered the joy of this creative expression & is enthusiastic to integrate art with healing.
URL:https://antonellabargione.com/event/awaken-your-creative-self/
LOCATION:The Mbira Centre\, 53 Glenara Ave North\, Harare\, Zimbabwe
ATTACH;FMTTYPE=image/jpeg:https://antonellabargione.com/wp-content/uploads/2016/03/awaken-your-creative-self-e1485179552770.jpg
END:VEVENT
END:VCALENDAR