BEGIN:VCALENDAR
VERSION:2.0
PRODID:-//Antonella Bargione - ECPv5.16.0//NONSGML v1.0//EN
CALSCALE:GREGORIAN
METHOD:PUBLISH
X-WR-CALNAME:Antonella Bargione
X-ORIGINAL-URL:https://antonellabargione.com
X-WR-CALDESC:Events for Antonella Bargione
BEGIN:VTIMEZONE
TZID:Africa/Harare
BEGIN:STANDARD
TZOFFSETFROM:+0200
TZOFFSETTO:+0200
TZNAME:CAT
DTSTART:20170101T000000
END:STANDARD
END:VTIMEZONE
BEGIN:VEVENT
DTSTART;TZID=Africa/Harare:20170305T133000
DTEND;TZID=Africa/Harare:20170305T173000
DTSTAMP:20260419T193731
CREATED:20170123T134242Z
LAST-MODIFIED:20170123T134242Z
UID:6514-1488720600-1488735000@antonellabargione.com
SUMMARY:Create & Paint your own Prayer Flags
DESCRIPTION:Give colour to your prayers and good wishes\, for yourself and family\, your community and the world…\nPaint your own Prayer Flags! \n \nPainting with Energy Creative Lab  \n \nSend them out to the Universe. Be sure that they are going to be answered… \neven in a different way from what you think it should be. \nSunday\, March 5th   1.30pm to 5.30 pm \n  \nBook on +263776023013\, by Saturday February 24th\, as I need to prepare the flags and  there is a form to fill in that will help you to gain clarity and have better longlasting results for this workshop. \nAll materials included.  \nSelf investment US$44 \nBring an apron and some snacks for tea. \nAll my Painting with Energy Labs are not about creating a pretty picture from your mind\, I will teach you different painting processes that once mastered can start to change things in your life. It’s about getting absorbed in the process of your painting practise and use it as a way to bring more presence into your life. I guarantee you are going to have a breakthrough in self-confidence\, so much fun and more J Of course the more you practice\, the faster the changes.
URL:https://antonellabargione.com/event/create-paint-your-own-prayer-flags/
LOCATION:The Mbira Centre\, 53 Glenara Ave North\, Harare\, Zimbabwe
CATEGORIES:awaken your creative self,mandala,Paint with Energy,prayer flags,sacred symbols
ATTACH;FMTTYPE=image/jpeg:https://antonellabargione.com/wp-content/uploads/2017/01/dscn0647-2-copy.jpg
END:VEVENT
END:VCALENDAR