BEGIN:VCALENDAR
VERSION:2.0
PRODID:-//Antonella Bargione - ECPv5.16.0//NONSGML v1.0//EN
CALSCALE:GREGORIAN
METHOD:PUBLISH
X-WR-CALNAME:Antonella Bargione
X-ORIGINAL-URL:https://antonellabargione.com
X-WR-CALDESC:Events for Antonella Bargione
BEGIN:VTIMEZONE
TZID:Africa/Harare
BEGIN:STANDARD
TZOFFSETFROM:+0200
TZOFFSETTO:+0200
TZNAME:CAT
DTSTART:20180101T000000
END:STANDARD
END:VTIMEZONE
BEGIN:VEVENT
DTSTART;TZID=Africa/Harare:20180414T093000
DTEND;TZID=Africa/Harare:20180414T130000
DTSTAMP:20260419T180436
CREATED:20180404T124040Z
LAST-MODIFIED:20180404T124040Z
UID:6635-1523698200-1523710800@antonellabargione.com
SUMMARY:Dipingere con l'Energia - Il potere del Mandala
DESCRIPTION:Il Potere del MANDALA \nIn uno spazio meditativo e divertente libererai\, sulla tela\, la bellezza creativa in forma di Mandala. Il Mandala\, un circolo espansivo che dal cuore si irradia verso l’esterno. \n  \nDipingere intuitivamente su tela ci porta nella parte destra del cervello\, dove seguendo l’intuizione\, ogni pennellata informerà la successiva. Con questo sistema esplorativo e’ piu’ importante perdersi nel processo della pittura che preoccuparsi del prodotto finale. Questo fa sì che le tensioni\, l’ansia e lo stress vengano rilasciate. \nNella vita ci relazioniamo con le cose nello stesso modo; quando mangiamo\, stiamo con gli altri\, lavoriamo ecc. lo facciamo sempre nello stesso modo. Lo stesso avviene con la pittura. Con questo metodo\, avremo la possibilità di incontrare questi nostri schemi e credenze\, sia positive che negative. \nCambiando o aggiustando ciò che non ci piace sulla tela\, creiamo un atto di potere che a poco a poco ci darà la capacità di portare il cambiamento nelle nostre scelte della vita di tutti i giorni. La tela diventa così la metafora della vita. \nIl tema che esploreremo sarà quello deI Mandala che è una rappresentazione geometrica circolare che comincia da un punto centrale ed evolve radialmente verso l’esterno. La parola e’ di origine Sanskrita ed è usata come rappresentazione dell’universo. \nManda = essenza\, La = prendere\, cogliere\, ciò che raccoglie l’essenza\, in questo caso la nostra. Cosa vogliamo offrire al mondo\, condividere con gli altri? \nGeneralmente il mandala e’ contenuto in un quadrato\, che si riferisce alla famosa quadratura del cerchio. Si usavano come offerta simbolica dell’Universo. \nTutte le culture hanno le loro forme di Mandala\, i rosoni gotici\, il rosario\, l’aureola dei santi\, la tela di ragno\, l’acchiappasogni\, il decoro di un piatto siciliano o anche una cassata… \nE’ importante confermare la propria partecipazione con il pagamento a fondo perduto di 20 Euro entro martedì 10/4. L’anticipo verrà restituito soltanto se non si raggiunge il numero min. di 5 persone.\n \nQuota di partecipazione: Laboratorio di 3 ore e mezza – 45 euro materiali inclusi e coffee break. Porta un grembiule o degli indumenti ‘vissuti’ – Sconto di 5 Euro per chi porta un amico \nPrenotazioni ed info rivolgersi a : Antonella Bargione su Fb o tel. +39 3921302161 (whatsup) \n  \nSe volete sperimentare questo metodo Antonella offre sedute individuali. E’ anche possibile contattarla per organizzare laboratori privati per gruppi. \n \n  \nAntonella Bargione\, Palermitana trasferitasi in Zimbabwe\, Africa\, vent’anni fa\, è un’heART Healer\, che in Italiano si traduce come guaritrice del cuore usando (anche) l’arte\, ed un’artista intuitiva. Antonella ti accompagnerà gioiosamente\, invitandoti a darti il permesso di sperimentare sensualmente e lasciandoti toccare da questo tipo di pittura. \nEsperta in psicologia energetica e guarigione complementare. In Zimbabwe ha un’azienda\, Unbridled Connection che offre team building e Leadership\, e propone dal 2012\, con la Eartheart\, viaggi spirituali in Zimbabwe con persone che vengono da tutto il mondo\, per riconnettersi con la natura e gli animali selvatici a livello profondo. \n 
URL:https://antonellabargione.com/event/dipingere-con-lenergia-il-potere-del-mandala/
LOCATION:Spazio Cannatella\, via Papireto 10\, Palermo\, via Papireto 10\, Palermo\, 90100\, Italy
CATEGORIES:mandala,meditation,Paint with Energy,pittura intuitiva,risveglio del sè creativo
ATTACH;FMTTYPE=image/jpeg:https://antonellabargione.com/wp-content/uploads/2016/02/IMG_5465-e1522845556602.jpg
END:VEVENT
END:VCALENDAR