BEGIN:VCALENDAR
VERSION:2.0
PRODID:-//Antonella Bargione - ECPv5.16.0//NONSGML v1.0//EN
CALSCALE:GREGORIAN
METHOD:PUBLISH
X-WR-CALNAME:Antonella Bargione
X-ORIGINAL-URL:https://antonellabargione.com
X-WR-CALDESC:Events for Antonella Bargione
BEGIN:VTIMEZONE
TZID:Africa/Harare
BEGIN:STANDARD
TZOFFSETFROM:+0200
TZOFFSETTO:+0200
TZNAME:CAT
DTSTART:20180101T000000
END:STANDARD
END:VTIMEZONE
BEGIN:VEVENT
DTSTART;TZID=Africa/Harare:20181124T160000
DTEND;TZID=Africa/Harare:20181124T210000
DTSTAMP:20260419T194703
CREATED:20181124T112753Z
LAST-MODIFIED:20181124T113853Z
UID:6686-1543075200-1543093200@antonellabargione.com
SUMMARY:Paint the Music
DESCRIPTION:On Friday November 30 from 4pm to 6pm and forward. \n \nI am so happy to guide you through Paint the Music\, where we are going to paint to the tunes of Matt & Katt. \nI asked Katt to give me some info on the deeper meaning of the 432 Hz frequence of their sounds and music. \nThis is her answer: “Tuning our instruments and singing in 432 Hz allows us to deepen our creative connection with Mother Earth. This is the original\, natural tuning of our ancestors\, up until about 100 years ago\, when it was changed to 440 hz\, also known as disharmonic tuning\, on a mass scale. The original tuning\, also called “scientific tuning” is exactly perfect sound. It aligns with the vibration of the flower of life and this number is found in sacred geometry all over the world. We are noticing a shift of worldwide medicine musicians all around the world tuning back home to 432 hz\, and opening new channels of divine sound through this slight\, yet powerful adjustment.” \nThat means that at the end of the two hours you’ll be completily rebalanced\, relaxed and invigorated. You had fun on the canvas\, bypassing your mind\, playing with colors and tuning your entire body into this frequency. \nAt the end will celebrate with a very healty meal cooked with ❤ \nWe look forward to have you joining us. RSVP by next Wednesday essential. \n0776 023013 Antonella or 0785 366505 \nSpread the word. Thank you!
URL:https://antonellabargione.com/event/paint-the-music/
LOCATION:The Mbira Centre\, 53 Glenara Ave North\, Harare\, Zimbabwe
CATEGORIES:awaken your creative self,meditation,Paint with Energy,sound healing,sound meditation,Spiritual Journeys
ATTACH;FMTTYPE=image/jpeg:https://antonellabargione.com/wp-content/uploads/2018/11/paint-the-music-2-e1543059499144.jpg
END:VEVENT
END:VCALENDAR