BEGIN:VCALENDAR
VERSION:2.0
PRODID:-//Antonella Bargione - ECPv5.16.0//NONSGML v1.0//EN
CALSCALE:GREGORIAN
METHOD:PUBLISH
X-WR-CALNAME:Antonella Bargione
X-ORIGINAL-URL:https://antonellabargione.com
X-WR-CALDESC:Events for Antonella Bargione
BEGIN:VTIMEZONE
TZID:Africa/Harare
BEGIN:STANDARD
TZOFFSETFROM:+0200
TZOFFSETTO:+0200
TZNAME:CAT
DTSTART:20170101T000000
END:STANDARD
END:VTIMEZONE
BEGIN:VEVENT
DTSTART;TZID=Africa/Harare:20170212T133000
DTEND;TZID=Africa/Harare:20170212T173000
DTSTAMP:20260419T181639
CREATED:20170123T125957Z
LAST-MODIFIED:20170201T201514Z
UID:6504-1486906200-1486920600@antonellabargione.com
SUMMARY:Sacred Symbol Painting Workshop
DESCRIPTION:Receiving and painting your symbol for 2017. \nSunday February 12th. 1.30pm to 5.30pm \nPainting with Energy Creative Lab  \n\n \nFind out your own lighthouse to help you navigate 2017. Symbols bypass the mind and are understood on your subconscious level. Connecting and painting with your own Symbol will make you communicate with your intuitive part\, the one that knows and brings forward all your creative resources in your life. \nThis year my symbol is the Moon; it has to do with my dreams. The message is about paying attention to my dreamtime adventures or receiving inspirations through daydreaming to allow my creative strength to become more focussed and to light up my goals. \nWhat is going to be yours?  \n \nThe Sun\, a horse\, a dolphin\, any animal\, a flower\, a planet\, a staircase\, angel wings\, a heart\, a chalice\, a sword\, a phoenix… the world of symbols is just … \nenchanting! \nBe enchanted as I am ! \nBook on +263776023013\, by Saturday February 4th  \nas there is a form to fill in that will help you to gain clarity and have better longlasting results for this workshop. \nAll materials included. If you’d like a stretched canvas bring your own and pay $40 \nSelf investment US$44 \nBring an apron and some snacks for tea.  \nAll my Painting with Energy Labs are not about creating a pretty picture from your mind\, I will teach you different painting processes that once mastered can start to change things in your life. It’s about getting absorbed in the process of your painting practise and use it as a way to bring more presence into your life. I guarantee you are going to have a breakthrough in self-confidence\, so much fun and more.  Of course the more you practice\, the faster the changes.
URL:https://antonellabargione.com/event/sacred-symbol-painting-workshop/
LOCATION:The Mbira Centre\, 53 Glenara Ave North\, Harare\, Zimbabwe
CATEGORIES:awaken your creative self,Paint with Energy,sacred symbols
ATTACH;FMTTYPE=image/jpeg:https://antonellabargione.com/wp-content/uploads/2017/01/img_0337-2-copy.jpg
END:VEVENT
END:VCALENDAR