BEGIN:VCALENDAR
VERSION:2.0
PRODID:-//Antonella Bargione - ECPv5.16.0//NONSGML v1.0//EN
CALSCALE:GREGORIAN
METHOD:PUBLISH
X-WR-CALNAME:Antonella Bargione
X-ORIGINAL-URL:https://antonellabargione.com
X-WR-CALDESC:Events for Antonella Bargione
BEGIN:VTIMEZONE
TZID:Africa/Harare
BEGIN:STANDARD
TZOFFSETFROM:+0200
TZOFFSETTO:+0200
TZNAME:CAT
DTSTART:20160101T000000
END:STANDARD
END:VTIMEZONE
BEGIN:VEVENT
DTSTART;VALUE=DATE:20161002
DTEND;VALUE=DATE:20161003
DTSTAMP:20260421T115216
CREATED:20160905T200951Z
LAST-MODIFIED:20160905T220430Z
UID:6459-1475366400-1475452799@antonellabargione.com
SUMMARY:Spheres of Light and Sound
DESCRIPTION: Spheres of Light and Sound\n – Paint your own Deze –\n\nCalabashes (Mbira Resonators) for home and Music \nSunday October 2nd  –  A full day of fun   \nEvery September is Mbira Month!\nWhat a better way to close these celebrations by being creative?\n \nMateze Design is The Mbira Centre’s design department. As Chief Designer\, my work involves designing for Installations\, Publicity material\, Events\, Exhibitions and creating decorative designs for our Mbira Resonators. \nSeptember is Mbira Month and Mateze Design is celebrating this 5th edition by conducting a full day fun workshop painting your own Calabash. You can use it as a resonator to play your mbira in and/or as an object d’art for home or office. \n \nPlease join us in having a fun day decorating your own Deze\, the Shona word for an mbira resonator. Bring your own favourite design: from a Mandala to Java print\, a symbol\, a picture of your totem\, a message\, anything that inspires you. \nYou will be able to paint following your intuition and let the painting happen or using an image or geometric design for inspiration. Your chosen design can be realistic or abstract.  I will support you in making your idea a reality. \nThese pictures are examples of calabashes painted by different people 🙂 \nFind your Light\, Find your Tune! \n+263 776 023013 Antonella – +263 772 269779 Albert \nBooking by Saturday\, September 24th is essential. \nCost including Calabash and Art Materials from $95 to $125\, according to whether you are painting in single or multi color and by type and size of Calabash. \nBring old clothes\, lunch and something for tea. Tea\, coffee and water provided. \nPlease browse and LIKE  the following pages: \nThe Mbira Centre\n \n \nhttps://www.facebook.com/mbiracentre/?fref=ts \nMbira Month \nhttps://www.facebook.com/Mbira-Month-140497286125236/?fref=ts \nMbira Exhibition Online \nhttps://www.facebook.com/MbiraExhibitionOnline/?fref=ts
URL:https://antonellabargione.com/event/spheres-of-light-and-sound/
LOCATION:The Mbira Centre\, 53 Glenara Ave North\, Harare\, Zimbabwe
CATEGORIES:awaken your creative self,mandala,pittura intuitiva
ATTACH;FMTTYPE=image/jpeg:https://antonellabargione.com/wp-content/uploads/2016/09/IMG_0690-Copy-e1473091423688.jpg
END:VEVENT
END:VCALENDAR